BEGIN:VCALENDAR
VERSION:2.0
PRODID:-//Genesis Biomed - ECPv6.15.11//NONSGML v1.0//EN
CALSCALE:GREGORIAN
METHOD:PUBLISH
X-ORIGINAL-URL:https://genesis-biomed.com
X-WR-CALDESC:Events for Genesis Biomed
REFRESH-INTERVAL;VALUE=DURATION:PT1H
X-Robots-Tag:noindex
X-PUBLISHED-TTL:PT1H
BEGIN:VTIMEZONE
TZID:Europe/Madrid
BEGIN:DAYLIGHT
TZOFFSETFROM:+0100
TZOFFSETTO:+0200
TZNAME:CEST
DTSTART:20240331T010000
END:DAYLIGHT
BEGIN:STANDARD
TZOFFSETFROM:+0200
TZOFFSETTO:+0100
TZNAME:CET
DTSTART:20241027T010000
END:STANDARD
BEGIN:DAYLIGHT
TZOFFSETFROM:+0100
TZOFFSETTO:+0200
TZNAME:CEST
DTSTART:20250330T010000
END:DAYLIGHT
BEGIN:STANDARD
TZOFFSETFROM:+0200
TZOFFSETTO:+0100
TZNAME:CET
DTSTART:20251026T010000
END:STANDARD
BEGIN:DAYLIGHT
TZOFFSETFROM:+0100
TZOFFSETTO:+0200
TZNAME:CEST
DTSTART:20260329T010000
END:DAYLIGHT
BEGIN:STANDARD
TZOFFSETFROM:+0200
TZOFFSETTO:+0100
TZNAME:CET
DTSTART:20261025T010000
END:STANDARD
END:VTIMEZONE
BEGIN:VEVENT
DTSTART;VALUE=DATE:20251106
DTEND;VALUE=DATE:20251107
DTSTAMP:20260422T060324
CREATED:20251204T085953Z
LAST-MODIFIED:20251204T091328Z
UID:25049-1762387200-1762473599@genesis-biomed.com
SUMMARY:Programa de Emprendimiento Sanitario (SERMAS)
DESCRIPTION:Josep Lluís Falco\, CEO de GENESIS Biomed\, ha participado en las sesiones de formación online del Programa de Emprendimiento Sanitario a profesionales sanitarios del SERMAS y de las Fundaciones de Investigación relacionadas con la asistencia sanitaria de la Consejería de Sanidad de la Comunidad de Madrid.
URL:https://www.linkedin.com/feed/update/urn:li:activity:7392143113554755584#new_tab
LOCATION:Online
ATTACH;FMTTYPE=image/jpeg:https://genesis-biomed.com/wp-content/uploads/2025/12/genesis_evento_nov_sermas.jpg
END:VEVENT
BEGIN:VEVENT
DTSTART;VALUE=DATE:20251110
DTEND;VALUE=DATE:20251111
DTSTAMP:20260422T060324
CREATED:20251204T090358Z
LAST-MODIFIED:20251204T104345Z
UID:25062-1762732800-1762819199@genesis-biomed.com
SUMMARY:ACCIÓ
DESCRIPTION:El passat dilluns 10 de novembre\, el nostre CEO\, Josep Lluís Falcó\, va participar com a consultor acreditat per ACCIÓ a la jornada organitzada a Sabadell per impulsar estratègies de creixement empresarial.
URL:https://www.linkedin.com/feed/update/urn:li:activity:7395021929310584832#new_tab
LOCATION:Centre d’Empreses Industrials Can Roqueta\, Av. de Can Bordoll\, Sabadell\, Cataluña\, 08202\, Spain
ATTACH;FMTTYPE=image/jpeg:https://genesis-biomed.com/wp-content/uploads/2025/12/genesis_evento_nov_accio-1.jpg
END:VEVENT
BEGIN:VEVENT
DTSTART;VALUE=DATE:20251111
DTEND;VALUE=DATE:20251112
DTSTAMP:20260422T060324
CREATED:20251204T090627Z
LAST-MODIFIED:20251204T090627Z
UID:25069-1762819200-1762905599@genesis-biomed.com
SUMMARY:CEO Academy
DESCRIPTION:El martes 11 de noviembre\, tuvo lugar la 8ª sesión del programa CEO Academy\, organizado por GENESIS Biomed. En esta ocasión se celebró una mesa redonda moderada por Joan-Carles Fernàndez\, que contó con la participación de destacados CEOs del sector: Laura Soucek (CSO & former CEO de Peptomyc)\, Andreu M. Climent (CEO de Corify)\, Marta Barrachina (CEO de ADmit Therapeutics) y Markus Wilhelms (CEO de MOWOOT).
URL:https://www.linkedin.com/feed/update/urn:li:activity:7394349084259627008#new_tab
LOCATION:Online
ATTACH;FMTTYPE=image/jpeg:https://genesis-biomed.com/wp-content/uploads/2025/12/genesis_evento_nov_ceo_academy.jpg
END:VEVENT
BEGIN:VEVENT
DTSTART;VALUE=DATE:20251119
DTEND;VALUE=DATE:20251120
DTSTAMP:20260422T060324
CREATED:20251204T090906Z
LAST-MODIFIED:20251204T090906Z
UID:25075-1763510400-1763596799@genesis-biomed.com
SUMMARY:CEO Academy
DESCRIPTION:El pasado martes 18 de Noviembre\, tuvo lugar la 9ª sesión del GENESIS CEO Academy\, dedicada a un Mock Pitch Deck. Esta sesión actuó como un ensayo general de la presentación que se realizará ante inversores.
URL:https://genesis-biomed.com/event/ceo-academy-2/
LOCATION:Online
ATTACH;FMTTYPE=image/jpeg:https://genesis-biomed.com/wp-content/uploads/2025/12/genesis_evento_nov_ceo_academy_02.jpg
END:VEVENT
BEGIN:VEVENT
DTSTART;VALUE=DATE:20251120
DTEND;VALUE=DATE:20251121
DTSTAMP:20260422T060324
CREATED:20251204T091213Z
LAST-MODIFIED:20251204T091213Z
UID:25081-1763596800-1763683199@genesis-biomed.com
SUMMARY:UAM Emprende
DESCRIPTION:El Programa de Emprendimiento para Investigadores en Salud de UAM Emprende alcanza su ecuador. Tras las sesiones de la semana pasada sobre aspectos regulatorios\, impartidas por Jordi Ortiz Sagrista y Joan-Carles Fernàndez\, y las de esta semana sobre modelos de negocio y fundraising\, a cargo de Natalia de la Figuera\, COO de GENESIS Biomed\, el programa se encamina hacia su segunda mitad\, que culminará con un Pitch Day ante inversores.
URL:https://www.linkedin.com/feed/update/urn:li:activity:7397291788757143553#new_tab
LOCATION:Universidad Autonoma de Madrid\, Ciudad Universitaria de Cantoblanco\, Madrid\, Madrid\, 28049\, Spain
ATTACH;FMTTYPE=image/jpeg:https://genesis-biomed.com/wp-content/uploads/2025/12/genesis_evento_nov_uam_emprende.jpg
END:VEVENT
END:VCALENDAR