BEGIN:VCALENDAR
VERSION:2.0
PRODID:-//Genesis Biomed - ECPv6.15.11//NONSGML v1.0//EN
CALSCALE:GREGORIAN
METHOD:PUBLISH
X-WR-CALNAME:Genesis Biomed
X-ORIGINAL-URL:https://genesis-biomed.com
X-WR-CALDESC:Events for Genesis Biomed
REFRESH-INTERVAL;VALUE=DURATION:PT1H
X-Robots-Tag:noindex
X-PUBLISHED-TTL:PT1H
BEGIN:VTIMEZONE
TZID:Europe/Madrid
BEGIN:DAYLIGHT
TZOFFSETFROM:+0100
TZOFFSETTO:+0200
TZNAME:CEST
DTSTART:20240331T010000
END:DAYLIGHT
BEGIN:STANDARD
TZOFFSETFROM:+0200
TZOFFSETTO:+0100
TZNAME:CET
DTSTART:20241027T010000
END:STANDARD
BEGIN:DAYLIGHT
TZOFFSETFROM:+0100
TZOFFSETTO:+0200
TZNAME:CEST
DTSTART:20250330T010000
END:DAYLIGHT
BEGIN:STANDARD
TZOFFSETFROM:+0200
TZOFFSETTO:+0100
TZNAME:CET
DTSTART:20251026T010000
END:STANDARD
BEGIN:DAYLIGHT
TZOFFSETFROM:+0100
TZOFFSETTO:+0200
TZNAME:CEST
DTSTART:20260329T010000
END:DAYLIGHT
BEGIN:STANDARD
TZOFFSETFROM:+0200
TZOFFSETTO:+0100
TZNAME:CET
DTSTART:20261025T010000
END:STANDARD
END:VTIMEZONE
BEGIN:VEVENT
DTSTART;VALUE=DATE:20250701
DTEND;VALUE=DATE:20250702
DTSTAMP:20260424T150020
CREATED:20250723T094050Z
LAST-MODIFIED:20251204T091423Z
UID:23505-1751328000-1751414399@genesis-biomed.com
SUMMARY:Jornadas ACCIÓ crecimiento empresarial
DESCRIPTION:Nuestro CEO\, Josep Lluís Falcó\, ha participado como consultor acreditado por ACCIÓ en la jornada organizada organizada por Catalonia Health al Parc Cientific de Barcelona para impulsar estrategias de crecimiento empresarial.
URL:https://www.linkedin.com/feed/update/urn:li:activity:7346508031347560448#new_tab
LOCATION:Parc Cientific de Barcelona (PCB)\, Carrer de Baldiri Reixac\, 4-12 y 5\, Les Corts\, Barcelona\, 08028\, Spain
ATTACH;FMTTYPE=image/webp:https://genesis-biomed.com/wp-content/uploads/2025/07/genesis_biomed_event_julio_01.webp
END:VEVENT
BEGIN:VEVENT
DTSTART;VALUE=DATE:20250710
DTEND;VALUE=DATE:20250711
DTSTAMP:20260424T150020
CREATED:20250723T094519Z
LAST-MODIFIED:20251204T091431Z
UID:23513-1752105600-1752191999@genesis-biomed.com
SUMMARY:BBQ 2025 Catalonia Health
DESCRIPTION:Jordi Ortiz Sagrista and Agostino Romeo\, representing GENESIS Biomed attended the #BBQ2025 organized by Catalonia.health\, a key networking event for entrepreneurs\, executives\, and professionals in the biomedical and healthcare sectors.
URL:https://www.linkedin.com/posts/genesisbiomed_bbq2025-healthsector-networking-activity-7350422191785574400-8NBk/?utm_source=share&#038;utm_medium=member_desktop&#038;rcm=ACoAACl8SmEBF6Tx_8l3lMDDhC3kWSdgKUcr_8g#new_tab
LOCATION:Plaça Pla de l’Estany\, Plaça Pla de l'Estany 1-2\, El Prat de Llobregat\, Barcelona\, 08820\, Spain
ATTACH;FMTTYPE=image/webp:https://genesis-biomed.com/wp-content/uploads/2025/07/genesis_biomed_event_julio_02-1.webp
END:VEVENT
END:VCALENDAR