BEGIN:VCALENDAR
VERSION:2.0
PRODID:-//Genesis Biomed - ECPv6.15.11//NONSGML v1.0//EN
CALSCALE:GREGORIAN
METHOD:PUBLISH
X-WR-CALNAME:Genesis Biomed
X-ORIGINAL-URL:https://genesis-biomed.com
X-WR-CALDESC:Events for Genesis Biomed
REFRESH-INTERVAL;VALUE=DURATION:PT1H
X-Robots-Tag:noindex
X-PUBLISHED-TTL:PT1H
BEGIN:VTIMEZONE
TZID:Europe/Madrid
BEGIN:DAYLIGHT
TZOFFSETFROM:+0100
TZOFFSETTO:+0200
TZNAME:CEST
DTSTART:20240331T010000
END:DAYLIGHT
BEGIN:STANDARD
TZOFFSETFROM:+0200
TZOFFSETTO:+0100
TZNAME:CET
DTSTART:20241027T010000
END:STANDARD
BEGIN:DAYLIGHT
TZOFFSETFROM:+0100
TZOFFSETTO:+0200
TZNAME:CEST
DTSTART:20250330T010000
END:DAYLIGHT
BEGIN:STANDARD
TZOFFSETFROM:+0200
TZOFFSETTO:+0100
TZNAME:CET
DTSTART:20251026T010000
END:STANDARD
BEGIN:DAYLIGHT
TZOFFSETFROM:+0100
TZOFFSETTO:+0200
TZNAME:CEST
DTSTART:20260329T010000
END:DAYLIGHT
BEGIN:STANDARD
TZOFFSETFROM:+0200
TZOFFSETTO:+0100
TZNAME:CET
DTSTART:20261025T010000
END:STANDARD
END:VTIMEZONE
BEGIN:VEVENT
DTSTART;VALUE=DATE:20250611
DTEND;VALUE=DATE:20250612
DTSTAMP:20260424T162943
CREATED:20250704T074318Z
LAST-MODIFIED:20251204T091353Z
UID:23322-1749600000-1749686399@genesis-biomed.com
SUMMARY:Jornadas ACCIÓ crecimiento empresarial
DESCRIPTION:Nuestro CEO\, Josep Lluís Falcó\, ha participado como consultor acreditado por ACCIÓ en las jornadas organizadas en Tortosa y Manresa para impulsar estrategias de crecimiento empresarial.
URL:https://www.linkedin.com/feed/update/urn:li:activity:7339243685986873345/#new_tab
LOCATION:Delegació d’ACCIÓ a les Terres de l’Ebre\, Pl. Gerard Vergés\, 1\, Tortosa\, Tarragona\, 43500\, Spain
ATTACH;FMTTYPE=image/webp:https://genesis-biomed.com/wp-content/uploads/2025/07/event_junio_2_2025.webp
END:VEVENT
BEGIN:VEVENT
DTSTART;VALUE=DATE:20250617
DTEND;VALUE=DATE:20250618
DTSTAMP:20260424T162943
CREATED:20250704T074042Z
LAST-MODIFIED:20251204T091400Z
UID:23319-1750118400-1750204799@genesis-biomed.com
SUMMARY:Consortium Meeting Phems Rotterdam 2025
DESCRIPTION:Asier González represented GENESIS Biomed at the 2025 PHEMS Consortium meeting held in Rotterdam\, hosted by Erasmus Medical Center.
URL:https://www.linkedin.com/feed/update/urn:li:activity:7340629053994864640/#new_tab
LOCATION:Erasmus University Medical Center\, Molewaterplein 40\, Rotterdam\, Zuid-Holland\, 3015 GD\, Netherlands
ATTACH;FMTTYPE=image/webp:https://genesis-biomed.com/wp-content/uploads/2025/07/event_junio_1_2025.webp
END:VEVENT
BEGIN:VEVENT
DTSTART;VALUE=DATE:20250619
DTEND;VALUE=DATE:20250620
DTSTAMP:20260424T162943
CREATED:20250708T081125Z
LAST-MODIFIED:20251204T091407Z
UID:23378-1750291200-1750377599@genesis-biomed.com
SUMMARY:Premios Innomed
DESCRIPTION:En la segunda edición de los Premios Innomed\, nuestro CEO Josep Lluís Falcó\, moderó una mesa redonda sobre transferencia de tecnología desde el ámbito hospitalario\, y Joan-Carles Fernàndez tuvo el honor de entregar el premio patrocinado por GENESIS Biomed a uno de los proyectos seleccionados.
URL:https://www.linkedin.com/feed/update/urn:li:activity:7341769940389040128#new_tab
LOCATION:Institut de Recerca Germans Tries i Pujol:\, Ctra de Can Ruti\, Camí de les Escoles\, s/n\, Badalona\, Barcelona\, 08916\, Spain
ATTACH;FMTTYPE=image/webp:https://genesis-biomed.com/wp-content/uploads/2025/07/event_innomed.webp
END:VEVENT
BEGIN:VEVENT
DTSTART;VALUE=DATE:20250627
DTEND;VALUE=DATE:20250628
DTSTAMP:20260424T162943
CREATED:20250704T074543Z
LAST-MODIFIED:20251204T091415Z
UID:23325-1750982400-1751068799@genesis-biomed.com
SUMMARY:Jornada UPAM3D
DESCRIPTION:Agostino Romeo\, Senior Manager de GENESIS Biomed\, ha participado en la Jornada UPAM3D\, un encuentro centrado en innovación\, talento y expansión en medicina personalizada 3D.
URL:https://www.linkedin.com/feed/update/urn:li:activity:7344329484298268674/#new_tab
LOCATION:Unidad de Impresión 3D (UPAM3D)\, Hospital General Universitario Gregorio Marañón. Pabellón Anexo a Psiquiatría - 2ª Planta\, C/ Ibiza\, 43\, Madrid\, Madrid\, 08006\, Spain
ATTACH;FMTTYPE=image/webp:https://genesis-biomed.com/wp-content/uploads/2025/07/event_junio_3_2025.webp
END:VEVENT
END:VCALENDAR