BEGIN:VCALENDAR
VERSION:2.0
PRODID:-//Genesis Biomed - ECPv6.15.11//NONSGML v1.0//EN
CALSCALE:GREGORIAN
METHOD:PUBLISH
X-WR-CALNAME:Genesis Biomed
X-ORIGINAL-URL:https://genesis-biomed.com
X-WR-CALDESC:Events for Genesis Biomed
REFRESH-INTERVAL;VALUE=DURATION:PT1H
X-Robots-Tag:noindex
X-PUBLISHED-TTL:PT1H
BEGIN:VTIMEZONE
TZID:Europe/Madrid
BEGIN:DAYLIGHT
TZOFFSETFROM:+0100
TZOFFSETTO:+0200
TZNAME:CEST
DTSTART:20240331T010000
END:DAYLIGHT
BEGIN:STANDARD
TZOFFSETFROM:+0200
TZOFFSETTO:+0100
TZNAME:CET
DTSTART:20241027T010000
END:STANDARD
BEGIN:DAYLIGHT
TZOFFSETFROM:+0100
TZOFFSETTO:+0200
TZNAME:CEST
DTSTART:20250330T010000
END:DAYLIGHT
BEGIN:STANDARD
TZOFFSETFROM:+0200
TZOFFSETTO:+0100
TZNAME:CET
DTSTART:20251026T010000
END:STANDARD
BEGIN:DAYLIGHT
TZOFFSETFROM:+0100
TZOFFSETTO:+0200
TZNAME:CEST
DTSTART:20260329T010000
END:DAYLIGHT
BEGIN:STANDARD
TZOFFSETFROM:+0200
TZOFFSETTO:+0100
TZNAME:CET
DTSTART:20261025T010000
END:STANDARD
END:VTIMEZONE
BEGIN:VEVENT
DTSTART;VALUE=DATE:20250401
DTEND;VALUE=DATE:20250402
DTSTAMP:20260424T205232
CREATED:20250520T081556Z
LAST-MODIFIED:20250520T082733Z
UID:22728-1743465600-1743551999@genesis-biomed.com
SUMMARY:Formaciones dentro del programa Campus Clinic Innova
DESCRIPTION:Josep Lluís Falcó\, CEO de GENESIS Biomed impartió la primera sesión de formación del programa Campus Clínic Innova en el Hospital Clínic de Barcelona. En esta sesión inicial se abordaron los aspectos clave que debe incluir un plan de negocio\, brindando herramientas fundamentales para impulsar la transferencia tecnológica de proyectos de innovación.
URL:https://www.linkedin.com/posts/genesisbiomed_campusclaednicinnova-activity-7313857848478720000-5NRO/?utm_source=share&#038;utm_medium=member_desktop&#038;rcm=ACoAACl8SmEBF6Tx_8l3lMDDhC3kWSdgKUcr_8g#new_tab
LOCATION:CEK\, C/Rosselló\, 153\, Barcelona\, España\, Spain
ATTACH;FMTTYPE=image/webp:https://genesis-biomed.com/wp-content/uploads/2025/05/Evento_formacion_campus_innova-1.webp
END:VEVENT
END:VCALENDAR