BEGIN:VCALENDAR
VERSION:2.0
PRODID:-//Genesis Biomed - ECPv6.15.11//NONSGML v1.0//EN
CALSCALE:GREGORIAN
METHOD:PUBLISH
X-ORIGINAL-URL:https://genesis-biomed.com/es/
X-WR-CALDESC:Eventos para Genesis Biomed
REFRESH-INTERVAL;VALUE=DURATION:PT1H
X-Robots-Tag:noindex
X-PUBLISHED-TTL:PT1H
BEGIN:VTIMEZONE
TZID:Europe/Madrid
BEGIN:DAYLIGHT
TZOFFSETFROM:+0100
TZOFFSETTO:+0200
TZNAME:CEST
DTSTART:20250330T010000
END:DAYLIGHT
BEGIN:STANDARD
TZOFFSETFROM:+0200
TZOFFSETTO:+0100
TZNAME:CET
DTSTART:20251026T010000
END:STANDARD
BEGIN:DAYLIGHT
TZOFFSETFROM:+0100
TZOFFSETTO:+0200
TZNAME:CEST
DTSTART:20260329T010000
END:DAYLIGHT
BEGIN:STANDARD
TZOFFSETFROM:+0200
TZOFFSETTO:+0100
TZNAME:CET
DTSTART:20261025T010000
END:STANDARD
BEGIN:DAYLIGHT
TZOFFSETFROM:+0100
TZOFFSETTO:+0200
TZNAME:CEST
DTSTART:20270328T010000
END:DAYLIGHT
BEGIN:STANDARD
TZOFFSETFROM:+0200
TZOFFSETTO:+0100
TZNAME:CET
DTSTART:20271031T010000
END:STANDARD
END:VTIMEZONE
BEGIN:VEVENT
DTSTART;VALUE=DATE:20260121
DTEND;VALUE=DATE:20260122
DTSTAMP:20260422T022638
CREATED:20260210T091340Z
LAST-MODIFIED:20260210T091416Z
UID:25941-1768953600-1769039999@genesis-biomed.com
SUMMARY:Clase en el máster en Health Innovation and Entrepreneurship - VHIR
DESCRIPTION:El miércoles 21 de enero nuestro CEO\, Josep Lluís Falcó\, impartirá una clase sobre valorización y vigilancia tecnológica en la innovación sanitaria en el marco de la primera edición del Máster en Health Innovation and Entrepreneurship\, coordinado por la Universitat Autònoma de Barcelona y el Vall d’Hebron Institut de Recerca (VHIR).
URL:https://www.linkedin.com/feed/update/urn:li:activity:7417514429153435650#new_tab
LOCATION:Vall d’Hebron Institut de Recerca (VHIR)\, Pg. de la Vall d'Hebron\, 129\, Horta-Guinardó\, Barcelona\, Cataluña\, 08035\, Spain
ATTACH;FMTTYPE=image/webp:https://genesis-biomed.com/wp-content/uploads/2026/02/genesis_biomed_event_2025_january_01.webp
END:VEVENT
END:VCALENDAR